BEGIN:VCALENDAR
VERSION:2.0
PRODID:-//Tony Dwyer Author - ECPv6.15.18//NONSGML v1.0//EN
CALSCALE:GREGORIAN
METHOD:PUBLISH
X-WR-CALNAME:Tony Dwyer Author
X-ORIGINAL-URL:https://tonydwyerauthor.co.uk
X-WR-CALDESC:Events for Tony Dwyer Author
REFRESH-INTERVAL;VALUE=DURATION:PT1H
X-Robots-Tag:noindex
X-PUBLISHED-TTL:PT1H
BEGIN:VTIMEZONE
TZID:Europe/London
BEGIN:DAYLIGHT
TZOFFSETFROM:+0000
TZOFFSETTO:+0100
TZNAME:BST
DTSTART:20230326T010000
END:DAYLIGHT
BEGIN:STANDARD
TZOFFSETFROM:+0100
TZOFFSETTO:+0000
TZNAME:GMT
DTSTART:20231029T010000
END:STANDARD
BEGIN:DAYLIGHT
TZOFFSETFROM:+0000
TZOFFSETTO:+0100
TZNAME:BST
DTSTART:20240331T010000
END:DAYLIGHT
BEGIN:STANDARD
TZOFFSETFROM:+0100
TZOFFSETTO:+0000
TZNAME:GMT
DTSTART:20241027T010000
END:STANDARD
BEGIN:DAYLIGHT
TZOFFSETFROM:+0000
TZOFFSETTO:+0100
TZNAME:BST
DTSTART:20250330T010000
END:DAYLIGHT
BEGIN:STANDARD
TZOFFSETFROM:+0100
TZOFFSETTO:+0000
TZNAME:GMT
DTSTART:20251026T010000
END:STANDARD
END:VTIMEZONE
BEGIN:VEVENT
DTSTART;TZID=Europe/London:20240615T123000
DTEND;TZID=Europe/London:20240615T160000
DTSTAMP:20260415T125152
CREATED:20240606T190727Z
LAST-MODIFIED:20240606T190727Z
UID:125-1718454600-1718467200@tonydwyerauthor.co.uk
SUMMARY:Mollington Fête
DESCRIPTION:Tony will be selling books at this popular traditional village fête.  Come along and say hello if you’re in the area!
URL:https://tonydwyerauthor.co.uk/event/mollington-fete/
LOCATION:Anita’s Caravan Park\, Mollington\, OX17 1AZ
END:VEVENT
END:VCALENDAR